BEGIN:VCALENDAR
VERSION:2.0
PRODID:-//Anna Nalter - ECPv6.15.20//NONSGML v1.0//EN
CALSCALE:GREGORIAN
METHOD:PUBLISH
X-WR-CALNAME:Anna Nalter
X-ORIGINAL-URL:https://annanalter.com
X-WR-CALDESC:Veranstaltungen für Anna Nalter
REFRESH-INTERVAL;VALUE=DURATION:PT1H
X-Robots-Tag:noindex
X-PUBLISHED-TTL:PT1H
BEGIN:VTIMEZONE
TZID:UTC
BEGIN:STANDARD
TZOFFSETFROM:+0000
TZOFFSETTO:+0000
TZNAME:UTC
DTSTART:20250101T000000
END:STANDARD
END:VTIMEZONE
BEGIN:VEVENT
DTSTART;TZID=UTC:20260507T200000
DTEND;TZID=UTC:20260507T220000
DTSTAMP:20260420T111614
CREATED:20260116T131414Z
LAST-MODIFIED:20260116T132534Z
UID:353-1778184000-1778191200@annanalter.com
SUMMARY:7. Symphoniekonzert - Kontraste
DESCRIPTION:Tiroler Symphonieorchester Innsbruck \n 
URL:https://annanalter.com/event/7-symphoniekonzert-kontraste/
LOCATION:Congress Innsbruck\, Saal Tirol\, Rennweg 3\, Innsbruck\, 6020\, Austria
END:VEVENT
BEGIN:VEVENT
DTSTART;TZID=UTC:20260508T200000
DTEND;TZID=UTC:20260508T220000
DTSTAMP:20260420T111614
CREATED:20260116T132138Z
LAST-MODIFIED:20260228T095732Z
UID:356-1778270400-1778277600@annanalter.com
SUMMARY:7. Symphoniekonzert - Kontraste
DESCRIPTION:Tiroler Symphonieorchester Innsbruck
URL:https://annanalter.com/event/7-symphoniekonzert-kontraste-2/
LOCATION:Congress Innsbruck\, Saal Tirol\, Rennweg 3\, Innsbruck\, 6020\, Austria
END:VEVENT
END:VCALENDAR